BEGIN:VCALENDAR
VERSION:2.0
PRODID:-//AMTA - ECPv6.11.0.1//NONSGML v1.0//EN
CALSCALE:GREGORIAN
METHOD:PUBLISH
X-ORIGINAL-URL:https://amtaorg.com
X-WR-CALDESC:Events for AMTA
REFRESH-INTERVAL;VALUE=DURATION:PT1H
X-Robots-Tag:noindex
X-PUBLISHED-TTL:PT1H
BEGIN:VTIMEZONE
TZID:UTC
BEGIN:STANDARD
TZOFFSETFROM:+0000
TZOFFSETTO:+0000
TZNAME:UTC
DTSTART:20280101T000000
END:STANDARD
END:VTIMEZONE
BEGIN:VEVENT
DTSTART;TZID=UTC:20280923T000000
DTEND;TZID=UTC:20280927T000000
DTSTAMP:20260425T150324
CREATED:20250926T122513Z
LAST-MODIFIED:20260425T145352Z
UID:10000118-1853280000-1853625600@amtaorg.com
SUMMARY:WEFTEC28
DESCRIPTION:WEF28
URL:https://amtaorg.com/event/weftec-2028/
END:VEVENT
END:VCALENDAR