BEGIN:VCALENDAR
VERSION:2.0
PRODID:-//AMTA - ECPv6.11.0.1//NONSGML v1.0//EN
CALSCALE:GREGORIAN
METHOD:PUBLISH
X-ORIGINAL-URL:https://amtaorg.com
X-WR-CALDESC:Events for AMTA
REFRESH-INTERVAL;VALUE=DURATION:PT1H
X-Robots-Tag:noindex
X-PUBLISHED-TTL:PT1H
BEGIN:VTIMEZONE
TZID:UTC
BEGIN:STANDARD
TZOFFSETFROM:+0000
TZOFFSETTO:+0000
TZNAME:UTC
DTSTART:20280101T000000
END:STANDARD
END:VTIMEZONE
BEGIN:VEVENT
DTSTART;TZID=UTC:20280604T000000
DTEND;TZID=UTC:20280607T000000
DTSTAMP:20260425T120543
CREATED:20250926T122513Z
LAST-MODIFIED:20260425T120350Z
UID:10000117-1843689600-1843948800@amtaorg.com
SUMMARY:ACE28
DESCRIPTION:AWWA28
URL:https://amtaorg.com/event/ace28/
END:VEVENT
END:VCALENDAR